Package: omicplotR Version: 1.29.0 Command: /home/biocbuild/bbs-3.22-bioc/R/bin/R CMD INSTALL omicplotR StartedAt: 2025-07-25 17:46:11 -0400 (Fri, 25 Jul 2025) EndedAt: 2025-07-25 17:46:32 -0400 (Fri, 25 Jul 2025) EllapsedTime: 21.9 seconds RetCode: 0 Status: OK