Package: omicplotR Version: 1.29.0 Command: /home/biocbuild/bbs-3.22-bioc/R/bin/R CMD build --keep-empty-dirs --no-resave-data --md5 omicplotR StartedAt: 2025-07-25 20:36:58 -0400 (Fri, 25 Jul 2025) EndedAt: 2025-07-25 20:37:23 -0400 (Fri, 25 Jul 2025) EllapsedTime: 25.1 seconds RetCode: 0 Status: OK PackageFile: omicplotR_1.29.0.tar.gz PackageFileSize: 1.642 MiB