Package: omicade4 Version: 1.49.0 Maintainer: Chen Meng MaintainerEmail: mengchen18 at gmail.com git_url: https://git.bioconductor.org/packages/omicade4 git_branch: devel git_last_commit: 5b63308 git_last_commit_date: 2025-04-15 10:26:32 -0400 (Tue, 15 Apr 2025)