Package: omicRexposome Version: 1.31.0 Command: /home/biocbuild/bbs-3.22-bioc/R/bin/R CMD INSTALL omicRexposome StartedAt: 2025-10-06 15:30:21 -0400 (Mon, 06 Oct 2025) EndedAt: 2025-10-06 15:31:08 -0400 (Mon, 06 Oct 2025) EllapsedTime: 46.7 seconds RetCode: 0 Status: OK