Package: omicRexposome Version: 1.31.0 Command: /home/biocbuild/bbs-3.22-bioc/R/bin/R CMD build --keep-empty-dirs --no-resave-data --md5 omicRexposome StartedAt: 2025-10-06 19:04:24 -0400 (Mon, 06 Oct 2025) EndedAt: 2025-10-06 19:15:26 -0400 (Mon, 06 Oct 2025) EllapsedTime: 661.8 seconds RetCode: 0 Status: OK PackageFile: omicRexposome_1.31.0.tar.gz PackageFileSize: 2.576 MiB