Package: omada Version: 1.11.0 Command: /home/biocbuild/bbs-3.22-bioc/R/bin/R CMD INSTALL omada StartedAt: 2025-10-02 15:12:09 -0400 (Thu, 02 Oct 2025) EndedAt: 2025-10-02 15:12:21 -0400 (Thu, 02 Oct 2025) EllapsedTime: 12.1 seconds RetCode: 0 Status: OK