Package: oligo Version: 1.75.0 Command: rm -rf oligo.buildbin-libdir && mkdir oligo.buildbin-libdir && /Users/biocbuild/BBS/utils/build-universal.sh oligo_1.75.0.tar.gz /Library/Frameworks/R.framework/Resources/bin/R oligo.buildbin-libdir StartedAt: 2025-11-26 23:45:19 -0500 (Wed, 26 Nov 2025) EndedAt: 2025-11-26 23:45:40 -0500 (Wed, 26 Nov 2025) EllapsedTime: 21.5 seconds RetCode: 0 Status: OK PackageFile: oligo_1.75.0.tgz PackageFileSize: 27.83 MiB