Package: odseq Version: 1.37.0 Command: chmod a+r odseq -R && F:\biocbuild\bbs-3.22-bioc\R\bin\R.exe CMD build --keep-empty-dirs --no-resave-data odseq StartedAt: 2025-08-14 21:58:14 -0400 (Thu, 14 Aug 2025) EndedAt: 2025-08-14 21:59:07 -0400 (Thu, 14 Aug 2025) EllapsedTime: 52.4 seconds RetCode: 0 Status: OK PackageFile: odseq_1.37.0.tar.gz PackageFileSize: 230.5 KiB