Package: odseq Version: 1.37.0 Command: rm -rf odseq.buildbin-libdir && mkdir odseq.buildbin-libdir && F:\biocbuild\bbs-3.22-bioc\R\bin\R.exe CMD INSTALL --build --library=odseq.buildbin-libdir odseq_1.37.0.tar.gz StartedAt: 2025-08-15 10:52:03 -0400 (Fri, 15 Aug 2025) EndedAt: 2025-08-15 10:52:23 -0400 (Fri, 15 Aug 2025) EllapsedTime: 20.7 seconds RetCode: 0 Status: OK PackageFile: odseq_1.37.0.zip PackageFileSize: 251.3 KiB