Package: occugene Version: 1.69.0 Command: /home/biocbuild/bbs-3.22-bioc/R/bin/R CMD INSTALL occugene StartedAt: 2025-10-13 15:04:40 -0400 (Mon, 13 Oct 2025) EndedAt: 2025-10-13 15:04:42 -0400 (Mon, 13 Oct 2025) EllapsedTime: 2.1 seconds RetCode: 0 Status: OK