Package: occugene Version: 1.69.0 Command: /home/biocbuild/bbs-3.22-bioc/R/bin/R CMD build --keep-empty-dirs --no-resave-data --md5 occugene StartedAt: 2025-10-13 19:08:14 -0400 (Mon, 13 Oct 2025) EndedAt: 2025-10-13 19:08:19 -0400 (Mon, 13 Oct 2025) EllapsedTime: 5.0 seconds RetCode: 0 Status: OK PackageFile: occugene_1.69.0.tar.gz PackageFileSize: 196.1 KiB