Package: nucleoSim Version: 1.35.0 Command: E:\biocbuild\bbs-3.21-bioc\R\bin\R.exe CMD INSTALL nucleoSim StartedAt: 2025-02-05 15:31:30 -0500 (Wed, 05 Feb 2025) EndedAt: 2025-02-05 15:31:44 -0500 (Wed, 05 Feb 2025) EllapsedTime: 14.7 seconds RetCode: 0 Status: OK