Package: nucleoSim Version: 1.35.0 Command: E:\biocbuild\bbs-3.21-bioc\R\bin\R.exe CMD check --no-multiarch --install=check:nucleoSim.install-out.txt --library=E:\biocbuild\bbs-3.21-bioc\R\library --no-vignettes --timings nucleoSim_1.35.0.tar.gz StartedAt: 2025-02-06 04:10:56 -0500 (Thu, 06 Feb 2025) EndedAt: 2025-02-06 04:12:03 -0500 (Thu, 06 Feb 2025) EllapsedTime: 67.6 seconds RetCode: 0 Status: OK CheckDir: nucleoSim.Rcheck Warnings: 0