Package: nucleoSim Version: 1.35.0 Command: chmod a+r nucleoSim -R && E:\biocbuild\bbs-3.21-bioc\R\bin\R.exe CMD build --keep-empty-dirs --no-resave-data nucleoSim StartedAt: 2025-02-05 20:28:48 -0500 (Wed, 05 Feb 2025) EndedAt: 2025-02-05 20:29:09 -0500 (Wed, 05 Feb 2025) EllapsedTime: 21.0 seconds RetCode: 0 Status: OK PackageFile: nucleoSim_1.35.0.tar.gz PackageFileSize: 302.7 KiB