Package: nucleoSim Version: 1.35.0 Command: rm -rf nucleoSim.buildbin-libdir && mkdir nucleoSim.buildbin-libdir && E:\biocbuild\bbs-3.21-bioc\R\bin\R.exe CMD INSTALL --build --library=nucleoSim.buildbin-libdir nucleoSim_1.35.0.tar.gz StartedAt: 2025-02-06 08:37:02 -0500 (Thu, 06 Feb 2025) EndedAt: 2025-02-06 08:37:19 -0500 (Thu, 06 Feb 2025) EllapsedTime: 16.8 seconds RetCode: 0 Status: OK PackageFile: nucleoSim_1.35.0.zip PackageFileSize: 339.7 KiB