Package: nucleoSim Version: 1.35.0 Command: /Library/Frameworks/R.framework/Resources/bin/R CMD build --keep-empty-dirs --no-resave-data nucleoSim StartedAt: 2025-02-05 17:40:17 -0500 (Wed, 05 Feb 2025) EndedAt: 2025-02-05 17:40:43 -0500 (Wed, 05 Feb 2025) EllapsedTime: 26.4 seconds RetCode: 0 Status: OK PackageFile: nucleoSim_1.35.0.tar.gz PackageFileSize: 463.6 KiB