Package: nucleoSim Version: 1.35.0 Command: rm -rf nucleoSim.buildbin-libdir && mkdir nucleoSim.buildbin-libdir && /Users/biocbuild/BBS/utils/build-universal.sh nucleoSim_1.35.0.tar.gz /Library/Frameworks/R.framework/Resources/bin/R nucleoSim.buildbin-libdir StartedAt: 2025-02-06 00:42:52 -0500 (Thu, 06 Feb 2025) EndedAt: 2025-02-06 00:43:04 -0500 (Thu, 06 Feb 2025) EllapsedTime: 11.6 seconds RetCode: 0 Status: OK PackageFile: nucleoSim_1.35.0.tgz PackageFileSize: 495.4 KiB