Package: nucleoSim Version: 1.35.0 Command: /home/biocbuild/R/R/bin/R CMD INSTALL nucleoSim StartedAt: 2025-01-29 19:34:27 -0000 (Wed, 29 Jan 2025) EndedAt: 2025-01-29 19:34:42 -0000 (Wed, 29 Jan 2025) EllapsedTime: 15.1 seconds RetCode: 0 Status: OK