Package: nucleoSim Version: 1.35.0 Command: /Library/Frameworks/R.framework/Resources/bin/R CMD INSTALL nucleoSim StartedAt: 2025-02-10 15:02:36 -0500 (Mon, 10 Feb 2025) EndedAt: 2025-02-10 15:02:43 -0500 (Mon, 10 Feb 2025) EllapsedTime: 7.6 seconds RetCode: 0 Status: OK