Package: nucleoSim Version: 1.35.0 Command: rm -rf nucleoSim.buildbin-libdir && mkdir nucleoSim.buildbin-libdir && /Users/biocbuild/BBS/utils/build-universal.sh nucleoSim_1.35.0.tar.gz /Library/Frameworks/R.framework/Resources/bin/R nucleoSim.buildbin-libdir StartedAt: 2025-02-05 22:28:48 -0500 (Wed, 05 Feb 2025) EndedAt: 2025-02-05 22:28:51 -0500 (Wed, 05 Feb 2025) EllapsedTime: 3.1 seconds RetCode: 0 Status: OK PackageFile: nucleoSim_1.35.0.tgz PackageFileSize: 496.3 KiB