Package: nucleR Version: 2.39.0 Command: E:\biocbuild\bbs-3.21-bioc\R\bin\R.exe CMD check --no-multiarch --install=check:nucleR.install-out.txt --library=E:\biocbuild\bbs-3.21-bioc\R\library --no-vignettes --timings nucleR_2.39.0.tar.gz StartedAt: 2025-02-17 03:30:44 -0500 (Mon, 17 Feb 2025) EndedAt: 2025-02-17 03:36:03 -0500 (Mon, 17 Feb 2025) EllapsedTime: 318.9 seconds RetCode: 0 Status: WARNINGS CheckDir: nucleR.Rcheck Warnings: 1