Package: nucleR Version: 2.39.0 Command: chmod a+r nucleR -R && E:\biocbuild\bbs-3.21-bioc\R\bin\R.exe CMD build --keep-empty-dirs --no-resave-data nucleR StartedAt: 2025-02-16 20:16:51 -0500 (Sun, 16 Feb 2025) EndedAt: 2025-02-16 20:18:39 -0500 (Sun, 16 Feb 2025) EllapsedTime: 107.8 seconds RetCode: 0 Status: OK PackageFile: nucleR_2.39.0.tar.gz PackageFileSize: 1.176 MiB