Package: nucleR Version: 2.39.0 Command: rm -rf nucleR.buildbin-libdir && mkdir nucleR.buildbin-libdir && E:\biocbuild\bbs-3.21-bioc\R\bin\R.exe CMD INSTALL --build --library=nucleR.buildbin-libdir nucleR_2.39.0.tar.gz StartedAt: 2025-02-17 08:03:45 -0500 (Mon, 17 Feb 2025) EndedAt: 2025-02-17 08:04:30 -0500 (Mon, 17 Feb 2025) EllapsedTime: 45.5 seconds RetCode: 0 Status: OK PackageFile: nucleR_2.39.0.zip PackageFileSize: 1.288 MiB