Package: nucleR Version: 2.41.1 Command: /home/biocbuild/bbs-3.22-bioc/R/bin/R CMD INSTALL nucleR StartedAt: 2025-09-30 15:51:59 -0400 (Tue, 30 Sep 2025) EndedAt: 2025-09-30 15:52:35 -0400 (Tue, 30 Sep 2025) EllapsedTime: 36.6 seconds RetCode: 0 Status: OK