Package: nucleR Version: 2.41.1 Command: /home/biocbuild/bbs-3.22-bioc/R/bin/R CMD build --keep-empty-dirs --no-resave-data --md5 nucleR StartedAt: 2025-09-30 19:03:18 -0400 (Tue, 30 Sep 2025) EndedAt: 2025-09-30 19:04:21 -0400 (Tue, 30 Sep 2025) EllapsedTime: 63.1 seconds RetCode: 0 Status: OK PackageFile: nucleR_2.41.1.tar.gz PackageFileSize: 1.804 MiB