Package: nuCpos Version: 1.27.0 Command: rm -rf nuCpos.buildbin-libdir && mkdir nuCpos.buildbin-libdir && F:\biocbuild\bbs-3.22-bioc\R\bin\R.exe CMD INSTALL --build --library=nuCpos.buildbin-libdir nuCpos_1.27.0.tar.gz StartedAt: 2025-08-15 10:51:50 -0400 (Fri, 15 Aug 2025) EndedAt: 2025-08-15 10:52:06 -0400 (Fri, 15 Aug 2025) EllapsedTime: 15.7 seconds RetCode: 0 Status: OK PackageFile: nuCpos_1.27.0.zip PackageFileSize: 1.594 MiB