Package: nuCpos Version: 1.25.0 Command: E:\biocbuild\bbs-3.21-bioc\R\bin\R.exe CMD check --no-multiarch --install=check:nuCpos.install-out.txt --library=E:\biocbuild\bbs-3.21-bioc\R\library --no-vignettes --timings nuCpos_1.25.0.tar.gz StartedAt: 2025-02-04 04:09:26 -0500 (Tue, 04 Feb 2025) EndedAt: 2025-02-04 04:10:14 -0500 (Tue, 04 Feb 2025) EllapsedTime: 48.0 seconds RetCode: 0 Status: OK CheckDir: nuCpos.Rcheck Warnings: 0