Package: nuCpos Version: 1.27.0 Command: /Library/Frameworks/R.framework/Resources/bin/R CMD check --install=check:nuCpos.install-out.txt --library=/Library/Frameworks/R.framework/Resources/library --no-vignettes --timings nuCpos_1.27.0.tar.gz StartedAt: 2025-05-07 20:56:25 -0400 (Wed, 07 May 2025) EndedAt: 2025-05-07 20:56:43 -0400 (Wed, 07 May 2025) EllapsedTime: 18.2 seconds RetCode: 0 Status: OK CheckDir: nuCpos.Rcheck Warnings: 0