Package: nuCpos Version: 1.27.0 Command: rm -rf nuCpos.buildbin-libdir && mkdir nuCpos.buildbin-libdir && /Users/biocbuild/BBS/utils/build-universal.sh nuCpos_1.27.0.tar.gz /Library/Frameworks/R.framework/Resources/bin/R nuCpos.buildbin-libdir StartedAt: 2025-05-07 23:04:54 -0400 (Wed, 07 May 2025) EndedAt: 2025-05-07 23:04:58 -0400 (Wed, 07 May 2025) EllapsedTime: 4.1 seconds RetCode: 0 Status: OK PackageFile: nuCpos_1.27.0.tgz PackageFileSize: 1.712 MiB