Package: npGSEA Version: 1.45.0 Command: /home/biocbuild/bbs-3.22-bioc/R/bin/R CMD INSTALL npGSEA StartedAt: 2025-10-10 15:42:38 -0400 (Fri, 10 Oct 2025) EndedAt: 2025-10-10 15:42:55 -0400 (Fri, 10 Oct 2025) EllapsedTime: 16.0 seconds RetCode: 0 Status: OK