Package: npGSEA Version: 1.47.0 Command: /Library/Frameworks/R.framework/Resources/bin/R CMD INSTALL npGSEA StartedAt: 2025-11-14 15:10:20 -0500 (Fri, 14 Nov 2025) EndedAt: 2025-11-14 15:10:26 -0500 (Fri, 14 Nov 2025) EllapsedTime: 6.6 seconds RetCode: 0 Status: OK