Package: npGSEA Version: 1.47.0 Command: /Library/Frameworks/R.framework/Resources/bin/R CMD build --keep-empty-dirs --no-resave-data npGSEA StartedAt: 2025-11-14 17:10:22 -0500 (Fri, 14 Nov 2025) EndedAt: 2025-11-14 17:10:37 -0500 (Fri, 14 Nov 2025) EllapsedTime: 14.2 seconds RetCode: 0 Status: OK PackageFile: npGSEA_1.47.0.tar.gz PackageFileSize: 357.3 KiB