Package: npGSEA Version: 1.47.0 Command: rm -rf npGSEA.buildbin-libdir && mkdir npGSEA.buildbin-libdir && /Users/biocbuild/BBS/utils/build-universal.sh npGSEA_1.47.0.tar.gz /Library/Frameworks/R.framework/Resources/bin/R npGSEA.buildbin-libdir StartedAt: 2025-11-16 23:45:05 -0500 (Sun, 16 Nov 2025) EndedAt: 2025-11-16 23:45:13 -0500 (Sun, 16 Nov 2025) EllapsedTime: 8.2 seconds RetCode: 0 Status: OK PackageFile: npGSEA_1.47.0.tgz PackageFileSize: 701.6 KiB