Package: notameViz Version: 0.99.6 Command: /home/biocbuild/bbs-3.22-bioc/R/bin/R CMD INSTALL notameViz StartedAt: 2025-10-24 15:34:51 -0400 (Fri, 24 Oct 2025) EndedAt: 2025-10-24 15:35:16 -0400 (Fri, 24 Oct 2025) EllapsedTime: 24.5 seconds RetCode: 0 Status: OK