Package: notameViz Version: 0.99.6 Command: /home/biocbuild/bbs-3.22-bioc/R/bin/R CMD build --keep-empty-dirs --no-resave-data --md5 notameViz StartedAt: 2025-10-24 19:11:51 -0400 (Fri, 24 Oct 2025) EndedAt: 2025-10-24 19:12:34 -0400 (Fri, 24 Oct 2025) EllapsedTime: 43.0 seconds RetCode: 0 Status: OK PackageFile: notameViz_0.99.6.tar.gz PackageFileSize: 466.8 KiB