Package: notame Version: 0.99.7 Command: /home/biocbuild/bbs-3.22-bioc/R/bin/R CMD INSTALL notame StartedAt: 2025-10-19 15:24:48 -0400 (Sun, 19 Oct 2025) EndedAt: 2025-10-19 15:25:14 -0400 (Sun, 19 Oct 2025) EllapsedTime: 25.6 seconds RetCode: 0 Status: OK