Package: notame Version: 0.99.7 Command: /home/biocbuild/bbs-3.22-bioc/R/bin/R CMD build --keep-empty-dirs --no-resave-data --md5 notame StartedAt: 2025-10-17 18:59:50 -0400 (Fri, 17 Oct 2025) EndedAt: 2025-10-17 19:02:59 -0400 (Fri, 17 Oct 2025) EllapsedTime: 189.2 seconds RetCode: 0 Status: OK PackageFile: notame_0.99.7.tar.gz PackageFileSize: 868.6 KiB