Package: notame Version: 1.1.0 Command: /home/biocbuild/bbs-3.23-bioc/R/bin/R CMD INSTALL notame StartedAt: 2025-11-11 15:27:44 -0500 (Tue, 11 Nov 2025) EndedAt: 2025-11-11 15:28:08 -0500 (Tue, 11 Nov 2025) EllapsedTime: 23.9 seconds RetCode: 0 Status: OK