Package: notame Version: 1.1.0 Command: /home/biocbuild/bbs-3.23-bioc/R/bin/R CMD build --keep-empty-dirs --no-resave-data notame StartedAt: 2025-11-11 19:05:29 -0500 (Tue, 11 Nov 2025) EndedAt: 2025-11-11 19:08:37 -0500 (Tue, 11 Nov 2025) EllapsedTime: 188.2 seconds RetCode: 0 Status: OK PackageFile: notame_1.1.0.tar.gz PackageFileSize: 867.1 KiB