Package: notame Version: 0.99.8 Command: /Library/Frameworks/R.framework/Resources/bin/R CMD INSTALL notame StartedAt: 2025-10-23 15:15:09 -0400 (Thu, 23 Oct 2025) EndedAt: 2025-10-23 15:15:19 -0400 (Thu, 23 Oct 2025) EllapsedTime: 9.9 seconds RetCode: 0 Status: OK