Package: notame Version: 0.99.8 Command: /Library/Frameworks/R.framework/Resources/bin/R CMD build --keep-empty-dirs --no-resave-data notame StartedAt: 2025-10-23 17:16:18 -0400 (Thu, 23 Oct 2025) EndedAt: 2025-10-23 17:17:30 -0400 (Thu, 23 Oct 2025) EllapsedTime: 71.9 seconds RetCode: 0 Status: OK PackageFile: notame_0.99.8.tar.gz PackageFileSize: 866.6 KiB