Package: notame Version: 0.99.8 Command: rm -rf notame.buildbin-libdir && mkdir notame.buildbin-libdir && /Users/biocbuild/BBS/utils/build-universal.sh notame_0.99.8.tar.gz /Library/Frameworks/R.framework/Resources/bin/R notame.buildbin-libdir StartedAt: 2025-10-23 23:19:41 -0400 (Thu, 23 Oct 2025) EndedAt: 2025-10-23 23:19:52 -0400 (Thu, 23 Oct 2025) EllapsedTime: 11.3 seconds RetCode: 0 Status: OK PackageFile: notame_0.99.8.tgz PackageFileSize: 978.8 KiB