Package: normr Version: 1.35.0 Command: chmod a+r normr -R && F:\biocbuild\bbs-3.22-bioc\R\bin\R.exe CMD build --keep-empty-dirs --no-resave-data normr StartedAt: 2025-08-14 21:57:11 -0400 (Thu, 14 Aug 2025) EndedAt: 2025-08-14 21:59:15 -0400 (Thu, 14 Aug 2025) EllapsedTime: 124.2 seconds RetCode: 0 Status: OK PackageFile: normr_1.35.0.tar.gz PackageFileSize: 2.935 MiB