Package: normr Version: 1.33.0 Command: E:\biocbuild\bbs-3.21-bioc\R\bin\R.exe CMD INSTALL normr StartedAt: 2025-02-18 16:11:35 -0500 (Tue, 18 Feb 2025) EndedAt: 2025-02-18 16:13:41 -0500 (Tue, 18 Feb 2025) EllapsedTime: 125.7 seconds RetCode: 0 Status: OK