Package: normr Version: 1.33.0 Command: rm -rf normr.buildbin-libdir && mkdir normr.buildbin-libdir && E:\biocbuild\bbs-3.21-bioc\R\bin\R.exe CMD INSTALL --build --library=normr.buildbin-libdir normr_1.33.0.tar.gz StartedAt: 2025-02-19 07:59:41 -0500 (Wed, 19 Feb 2025) EndedAt: 2025-02-19 08:00:58 -0500 (Wed, 19 Feb 2025) EllapsedTime: 77.1 seconds RetCode: 0 Status: OK PackageFile: normr_1.33.0.zip PackageFileSize: 3.733 MiB