Package: normr Version: 1.33.0 Command: /Library/Frameworks/R.framework/Resources/bin/R CMD INSTALL normr StartedAt: 2025-02-16 15:17:15 -0500 (Sun, 16 Feb 2025) EndedAt: 2025-02-16 15:18:12 -0500 (Sun, 16 Feb 2025) EllapsedTime: 56.7 seconds RetCode: 0 Status: OK