Package: nondetects Version: 2.37.0 Command: E:\biocbuild\bbs-3.21-bioc\R\bin\R.exe CMD INSTALL nondetects StartedAt: 2025-02-03 17:19:46 -0500 (Mon, 03 Feb 2025) EndedAt: 2025-02-03 17:19:47 -0500 (Mon, 03 Feb 2025) EllapsedTime: 0.4 seconds RetCode: 1 Status: ERROR