Package: nondetects Version: 2.39.1 Command: /home/biocbuild/bbs-3.22-bioc/R/bin/R CMD INSTALL nondetects StartedAt: 2025-10-13 16:02:48 -0400 (Mon, 13 Oct 2025) EndedAt: 2025-10-13 16:02:56 -0400 (Mon, 13 Oct 2025) EllapsedTime: 8.2 seconds RetCode: 0 Status: OK