Package: nondetects Version: 2.39.1 Command: /home/biocbuild/bbs-3.22-bioc/R/bin/R CMD build --keep-empty-dirs --no-resave-data --md5 nondetects StartedAt: 2025-10-13 19:06:43 -0400 (Mon, 13 Oct 2025) EndedAt: 2025-10-13 19:09:13 -0400 (Mon, 13 Oct 2025) EllapsedTime: 150.2 seconds RetCode: 0 Status: OK PackageFile: nondetects_2.39.1.tar.gz PackageFileSize: 131.4 KiB