Package: nondetects Version: 2.37.0 Command: /Library/Frameworks/R.framework/Resources/bin/R CMD build --keep-empty-dirs --no-resave-data nondetects StartedAt: 2025-02-03 17:44:25 -0500 (Mon, 03 Feb 2025) EndedAt: 2025-02-03 17:44:26 -0500 (Mon, 03 Feb 2025) EllapsedTime: 1.0 seconds RetCode: 1 Status: ERROR PackageFile: None PackageFileSize: NA